BEGIN:VCALENDAR
VERSION:2.0
PRODID:-//Eventos Santoto Tunja - ECPv5.2.0//NONSGML v1.0//EN
CALSCALE:GREGORIAN
METHOD:PUBLISH
X-WR-CALNAME:Eventos Santoto Tunja
X-ORIGINAL-URL:https://eventos.santototunja.edu.co
X-WR-CALDESC:Events for Eventos Santoto Tunja
BEGIN:VTIMEZONE
TZID:America/Bogota
BEGIN:STANDARD
TZOFFSETFROM:-0500
TZOFFSETTO:-0500
TZNAME:-05
DTSTART:20260101T000000
END:STANDARD
END:VTIMEZONE
BEGIN:VEVENT
DTSTART;TZID=America/Bogota:20260507T080000
DTEND;TZID=America/Bogota:20260508T170000
DTSTAMP:20260423T085025
CREATED:20260422T224919Z
LAST-MODIFIED:20260422T225215Z
UID:9984-1778140800-1778259600@eventos.santototunja.edu.co
SUMMARY:2do Encuentro internacional de Semilleros de Investigación en entrenamiento deportivo\, ejercicio físico y recreación
DESCRIPTION:
URL:https://eventos.santototunja.edu.co/evento/2do-encuentro-internacional-de-semilleros-de-investigacion-en-entrenamiento-deportivo-ejercicio-fisico-y-recreacion/
LOCATION:Campus Avenida Universitaria\, Tunja\, Boyacá\, 15001\, Colombia
CATEGORIES:Facultad de Cultura Física
ATTACH;FMTTYPE=image/jpeg:https://eventos.santototunja.edu.co/wp-content/uploads/2026/04/WEB-Semilleros-de-Investigacion-en-Entrenamiento-Deportivo.jpg
END:VEVENT
END:VCALENDAR