BEGIN:VCALENDAR
VERSION:2.0
PRODID:-//Eventos Santoto Tunja - ECPv5.2.0//NONSGML v1.0//EN
CALSCALE:GREGORIAN
METHOD:PUBLISH
X-WR-CALNAME:Eventos Santoto Tunja
X-ORIGINAL-URL:https://eventos.santototunja.edu.co
X-WR-CALDESC:Events for Eventos Santoto Tunja
BEGIN:VTIMEZONE
TZID:America/Bogota
BEGIN:STANDARD
TZOFFSETFROM:-0500
TZOFFSETTO:-0500
TZNAME:-05
DTSTART:20240101T000000
END:STANDARD
END:VTIMEZONE
BEGIN:VEVENT
DTSTART;TZID=America/Bogota:20240524T090000
DTEND;TZID=America/Bogota:20240524T110000
DTSTAMP:20260420T094620
CREATED:20240521T225513Z
LAST-MODIFIED:20240521T225513Z
UID:7731-1716541200-1716548400@eventos.santototunja.edu.co
SUMMARY:Boyacá en Verso "La relación entre Derecho y Literatura"
DESCRIPTION:
URL:https://eventos.santototunja.edu.co/evento/boyaca-en-verso-la-relacion-entre-derecho-y-literatura/
LOCATION:Auditorio San Raimundo de Peñafort\, Campus Centro Histórico\, Tunja\, Boyacá\, 15001\, Colombia
CATEGORIES:CRAI,Facultad de Derecho
ATTACH;FMTTYPE=image/jpeg:https://eventos.santototunja.edu.co/wp-content/uploads/2024/05/web-Boyacaa.jpg
END:VEVENT
END:VCALENDAR