BEGIN:VCALENDAR
VERSION:2.0
PRODID:-//Eventos Santoto Tunja - ECPv5.2.0//NONSGML v1.0//EN
CALSCALE:GREGORIAN
METHOD:PUBLISH
X-WR-CALNAME:Eventos Santoto Tunja
X-ORIGINAL-URL:https://eventos.santototunja.edu.co
X-WR-CALDESC:Events for Eventos Santoto Tunja
BEGIN:VTIMEZONE
TZID:America/Bogota
BEGIN:STANDARD
TZOFFSETFROM:-0500
TZOFFSETTO:-0500
TZNAME:-05
DTSTART:20220101T000000
END:STANDARD
END:VTIMEZONE
BEGIN:VEVENT
DTSTART;TZID=America/Bogota:20220401T080000
DTEND;TZID=America/Bogota:20220401T170000
DTSTAMP:20260419T232616
CREATED:20220315T142127Z
LAST-MODIFIED:20220315T142315Z
UID:4578-1648800000-1648832400@eventos.santototunja.edu.co
SUMMARY:Ceremonia de Grados - Abril
DESCRIPTION:Ver listado
URL:https://eventos.santototunja.edu.co/evento/ceremonia-de-grados-abril/
LOCATION:Auditorio Mayor\, Edificio Santo Domingo de Guzmán\, Tunja\, Boyacá\, Colombia
CATEGORIES:Secretaría General
ATTACH;FMTTYPE=image/jpeg:https://eventos.santototunja.edu.co/wp-content/uploads/2022/03/Ceremonia_de_grados_1_de_abril_2022_2.jpeg
END:VEVENT
END:VCALENDAR