BEGIN:VCALENDAR
VERSION:2.0
PRODID:-//Eventos Santoto Tunja - ECPv5.2.0//NONSGML v1.0//EN
CALSCALE:GREGORIAN
METHOD:PUBLISH
X-WR-CALNAME:Eventos Santoto Tunja
X-ORIGINAL-URL:https://eventos.santototunja.edu.co
X-WR-CALDESC:Events for Eventos Santoto Tunja
BEGIN:VTIMEZONE
TZID:America/Bogota
BEGIN:STANDARD
TZOFFSETFROM:-0500
TZOFFSETTO:-0500
TZNAME:-05
DTSTART:20220101T000000
END:STANDARD
END:VTIMEZONE
BEGIN:VEVENT
DTSTART;TZID=America/Bogota:20220420T180000
DTEND;TZID=America/Bogota:20220420T200000
DTSTAMP:20260419T175413
CREATED:20220329T200207Z
LAST-MODIFIED:20220329T200207Z
UID:4624-1650477600-1650484800@eventos.santototunja.edu.co
SUMMARY:Claustro de Padres Facultad de Derecho
DESCRIPTION:
URL:https://eventos.santototunja.edu.co/evento/claustro-de-padres-facultad-de-derecho/
LOCATION:Auditorio San Raimundo de Peñafort\, Campus Centro Histórico\, Tunja\, Boyacá\, 15001\, Colombia
CATEGORIES:Facultad de Derecho
ATTACH;FMTTYPE=image/jpeg:https://eventos.santototunja.edu.co/wp-content/uploads/2022/03/Claustro_Padres_Familia_Web.jpeg
END:VEVENT
END:VCALENDAR