BEGIN:VCALENDAR
VERSION:2.0
PRODID:-//Eventos Santoto Tunja - ECPv5.2.0//NONSGML v1.0//EN
CALSCALE:GREGORIAN
METHOD:PUBLISH
X-WR-CALNAME:Eventos Santoto Tunja
X-ORIGINAL-URL:https://eventos.santototunja.edu.co
X-WR-CALDESC:Events for Eventos Santoto Tunja
BEGIN:VTIMEZONE
TZID:America/Bogota
BEGIN:STANDARD
TZOFFSETFROM:-0500
TZOFFSETTO:-0500
TZNAME:-05
DTSTART:20220101T000000
END:STANDARD
END:VTIMEZONE
BEGIN:VEVENT
DTSTART;TZID=America/Bogota:20220308T160000
DTEND;TZID=America/Bogota:20220308T180000
DTSTAMP:20260420T101615
CREATED:20220221T190720Z
LAST-MODIFIED:20220221T190720Z
UID:4474-1646755200-1646762400@eventos.santototunja.edu.co
SUMMARY:Claustro Docente Ingeniería Civil
DESCRIPTION:
URL:https://eventos.santototunja.edu.co/evento/claustro-docente-ingenieria-civil/
LOCATION:Paraninfo Bicentenario Ed. Fray Giordano Bruno\, O.P.\, Campus Av. Universitaria\, Tunja\, Boyacá\, 15001\, Colombia
CATEGORIES:Académico,Facultad de Ingeniería Civil
ATTACH;FMTTYPE=image/jpeg:https://eventos.santototunja.edu.co/wp-content/uploads/2022/02/Lectio_Inauguralis_Ingenieria_civil_Banner.jpeg
END:VEVENT
END:VCALENDAR