BEGIN:VCALENDAR
VERSION:2.0
PRODID:-//Eventos Santoto Tunja - ECPv5.2.0//NONSGML v1.0//EN
CALSCALE:GREGORIAN
METHOD:PUBLISH
X-WR-CALNAME:Eventos Santoto Tunja
X-ORIGINAL-URL:https://eventos.santototunja.edu.co
X-WR-CALDESC:Events for Eventos Santoto Tunja
BEGIN:VTIMEZONE
TZID:America/Bogota
BEGIN:STANDARD
TZOFFSETFROM:-0500
TZOFFSETTO:-0500
TZNAME:-05
DTSTART:20220101T000000
END:STANDARD
END:VTIMEZONE
BEGIN:VEVENT
DTSTART;TZID=America/Bogota:20220316T110000
DTEND;TZID=America/Bogota:20220316T123000
DTSTAMP:20260420T105039
CREATED:20220310T133928Z
LAST-MODIFIED:20220310T133928Z
UID:4551-1647428400-1647433800@eventos.santototunja.edu.co
SUMMARY:Claustro Docente y Estudiantil Facultad de Ingeniería Electrónica
DESCRIPTION:
URL:https://eventos.santototunja.edu.co/evento/claustro-docente-y-estudiantil-facultad-de-ingenieria-electronica/
LOCATION:Paraninfo Bicentenario Ed. Fray Giordano Bruno\, O.P.\, Campus Av. Universitaria\, Tunja\, Boyacá\, 15001\, Colombia
CATEGORIES:Facultad de Ingeniería Electrónica
ATTACH;FMTTYPE=image/jpeg:https://eventos.santototunja.edu.co/wp-content/uploads/2022/03/Claustro-Estudiantil-IngElectronica_Santoto_Tunja_3.jpg
END:VEVENT
END:VCALENDAR