BEGIN:VCALENDAR
VERSION:2.0
PRODID:-//Eventos Santoto Tunja - ECPv5.2.0//NONSGML v1.0//EN
CALSCALE:GREGORIAN
METHOD:PUBLISH
X-WR-CALNAME:Eventos Santoto Tunja
X-ORIGINAL-URL:https://eventos.santototunja.edu.co
X-WR-CALDESC:Events for Eventos Santoto Tunja
BEGIN:VTIMEZONE
TZID:America/Bogota
BEGIN:STANDARD
TZOFFSETFROM:-0500
TZOFFSETTO:-0500
TZNAME:-05
DTSTART:20220101T000000
END:STANDARD
END:VTIMEZONE
BEGIN:VEVENT
DTSTART;TZID=America/Bogota:20220221T140000
DTEND;TZID=America/Bogota:20220221T180000
DTSTAMP:20260420T155225
CREATED:20220221T163525Z
LAST-MODIFIED:20220221T163525Z
UID:4461-1645452000-1645466400@eventos.santototunja.edu.co
SUMMARY:Claustro Estudiantil Diseño de Interacción
DESCRIPTION:
URL:https://eventos.santototunja.edu.co/evento/claustro-estudiantil-diseno-de-interaccion/
LOCATION:Paraninfo Bicentenario Ed. Fray Giordano Bruno\, O.P.\, Campus Av. Universitaria\, Tunja\, Boyacá\, 15001\, Colombia
CATEGORIES:Académico,Facultad de Diseño de Interacción
ATTACH;FMTTYPE=image/jpeg:https://eventos.santototunja.edu.co/wp-content/uploads/2022/02/Claustro_Estudiantil_Diseno_de_Interaccion_Santoto_Tunja_web-scaled.jpeg
END:VEVENT
END:VCALENDAR