BEGIN:VCALENDAR
VERSION:2.0
PRODID:-//Eventos Santoto Tunja - ECPv5.2.0//NONSGML v1.0//EN
CALSCALE:GREGORIAN
METHOD:PUBLISH
X-WR-CALNAME:Eventos Santoto Tunja
X-ORIGINAL-URL:https://eventos.santototunja.edu.co
X-WR-CALDESC:Events for Eventos Santoto Tunja
BEGIN:VTIMEZONE
TZID:America/Bogota
BEGIN:STANDARD
TZOFFSETFROM:-0500
TZOFFSETTO:-0500
TZNAME:-05
DTSTART:20220101T000000
END:STANDARD
END:VTIMEZONE
BEGIN:VEVENT
DTSTART;TZID=America/Bogota:20220315T160000
DTEND;TZID=America/Bogota:20220315T170000
DTSTAMP:20260420T120045
CREATED:20220307T134226Z
LAST-MODIFIED:20220307T134226Z
UID:4513-1647360000-1647363600@eventos.santototunja.edu.co
SUMMARY:Claustro Estudiantil Facultad de Derecho
DESCRIPTION:
URL:https://eventos.santototunja.edu.co/evento/claustro-estudiantil-facultad-de-derecho/
LOCATION:Auditorio Mayor San Alberto Magno\, Campus Centro Histórico\, Tunja\, Boyacá\, 15001\, Colombia
CATEGORIES:Académico,Facultad de Derecho
ATTACH;FMTTYPE=image/jpeg:https://eventos.santototunja.edu.co/wp-content/uploads/2022/03/Claustro_Facultad_de_Derecho_Banner_Web.jpg
END:VEVENT
END:VCALENDAR