BEGIN:VCALENDAR
VERSION:2.0
PRODID:-//Eventos Santoto Tunja - ECPv5.2.0//NONSGML v1.0//EN
CALSCALE:GREGORIAN
METHOD:PUBLISH
X-WR-CALNAME:Eventos Santoto Tunja
X-ORIGINAL-URL:https://eventos.santototunja.edu.co
X-WR-CALDESC:Events for Eventos Santoto Tunja
BEGIN:VTIMEZONE
TZID:America/Bogota
BEGIN:STANDARD
TZOFFSETFROM:-0500
TZOFFSETTO:-0500
TZNAME:-05
DTSTART:20220101T000000
END:STANDARD
END:VTIMEZONE
BEGIN:VEVENT
DTSTART;TZID=America/Bogota:20220707T023000
DTEND;TZID=America/Bogota:20220707T180000
DTSTAMP:20260419T130239
CREATED:20220701T211253Z
LAST-MODIFIED:20220701T211437Z
UID:4990-1657161000-1657216800@eventos.santototunja.edu.co
SUMMARY:Claustro General Docente Ingeniería Ambiental Multicampus
DESCRIPTION:Entrar a sala ZOOM
URL:https://eventos.santototunja.edu.co/evento/claustro-general-docente-ingenieria-ambiental-multicampus/
LOCATION:Santoto Tunja Sala Zoom\, Colombia
CATEGORIES:Facultad de Ingeniería Ambiental
ATTACH;FMTTYPE=image/jpeg:https://eventos.santototunja.edu.co/wp-content/uploads/2022/07/Claustro-Docente-Multicampus_Evento-Web-scaled.jpeg
END:VEVENT
END:VCALENDAR