BEGIN:VCALENDAR
VERSION:2.0
PRODID:-//Eventos Santoto Tunja - ECPv5.2.0//NONSGML v1.0//EN
CALSCALE:GREGORIAN
METHOD:PUBLISH
X-WR-CALNAME:Eventos Santoto Tunja
X-ORIGINAL-URL:https://eventos.santototunja.edu.co
X-WR-CALDESC:Events for Eventos Santoto Tunja
BEGIN:VTIMEZONE
TZID:America/Bogota
BEGIN:STANDARD
TZOFFSETFROM:-0500
TZOFFSETTO:-0500
TZNAME:-05
DTSTART:20220101T000000
END:STANDARD
END:VTIMEZONE
BEGIN:VEVENT
DTSTART;TZID=America/Bogota:20220310T190000
DTEND;TZID=America/Bogota:20220310T200000
DTSTAMP:20260420T115918
CREATED:20220309T155413Z
LAST-MODIFIED:20220309T155413Z
UID:4538-1646938800-1646942400@eventos.santototunja.edu.co
SUMMARY:Convenio Doble Titulación
DESCRIPTION:
URL:https://eventos.santototunja.edu.co/evento/convenio-doble-titulacion/
LOCATION:Auditorio Mayor San Alberto Magno\, Campus Centro Histórico\, Tunja\, Boyacá\, 15001\, Colombia
CATEGORIES:Facultad de Negocios Internacionales
ATTACH;FMTTYPE=image/jpeg:https://eventos.santototunja.edu.co/wp-content/uploads/2022/03/Lanzamiento_Doble_Titulacion_Santoto_Tunja_2022_eventos.jpeg
END:VEVENT
END:VCALENDAR