BEGIN:VCALENDAR
VERSION:2.0
PRODID:-//Eventos Santoto Tunja - ECPv5.2.0//NONSGML v1.0//EN
CALSCALE:GREGORIAN
METHOD:PUBLISH
X-WR-CALNAME:Eventos Santoto Tunja
X-ORIGINAL-URL:https://eventos.santototunja.edu.co
X-WR-CALDESC:Events for Eventos Santoto Tunja
BEGIN:VTIMEZONE
TZID:America/Bogota
BEGIN:STANDARD
TZOFFSETFROM:-0500
TZOFFSETTO:-0500
TZNAME:-05
DTSTART:20220101T000000
END:STANDARD
END:VTIMEZONE
BEGIN:VEVENT
DTSTART;TZID=America/Bogota:20220802T080000
DTEND;TZID=America/Bogota:20220811T170000
DTSTAMP:20260420T084409
CREATED:20220708T213249Z
LAST-MODIFIED:20220708T213401Z
UID:5028-1659427200-1660237200@eventos.santototunja.edu.co
SUMMARY:Convocatoria Monitorías Académicas 2022 - 2
DESCRIPTION:Mayor Información
URL:https://eventos.santototunja.edu.co/evento/convocatoria-monitorias-academicas-2022-2/
LOCATION:Universidad Santo Tomas\, Tunja\, Boyacá\, 150001\, Colombia
CATEGORIES:Académico
ATTACH;FMTTYPE=image/jpeg:https://eventos.santototunja.edu.co/wp-content/uploads/2022/07/Convocatoria-Monitores-Academicos-2022-2_WEB.jpeg
ORGANIZER;CN="UDIES":MAILTO:aux.udies@santototunja.edu.co
END:VEVENT
END:VCALENDAR