BEGIN:VCALENDAR
VERSION:2.0
PRODID:-//Eventos Santoto Tunja - ECPv5.2.0//NONSGML v1.0//EN
CALSCALE:GREGORIAN
METHOD:PUBLISH
X-WR-CALNAME:Eventos Santoto Tunja
X-ORIGINAL-URL:https://eventos.santototunja.edu.co
X-WR-CALDESC:Events for Eventos Santoto Tunja
BEGIN:VTIMEZONE
TZID:America/Bogota
BEGIN:STANDARD
TZOFFSETFROM:-0500
TZOFFSETTO:-0500
TZNAME:-05
DTSTART:20220101T000000
END:STANDARD
END:VTIMEZONE
BEGIN:VEVENT
DTSTART;TZID=America/Bogota:20220722T100000
DTEND;TZID=America/Bogota:20220722T120000
DTSTAMP:20260420T021755
CREATED:20220718T141619Z
LAST-MODIFIED:20220718T141619Z
UID:5056-1658484000-1658491200@eventos.santototunja.edu.co
SUMMARY:Corrientes Pedagógicas Contemporáneas
DESCRIPTION:
URL:https://eventos.santototunja.edu.co/evento/corrientes-pedagogicas-contemporaneas/
LOCATION:Auditorio Mayor\, Edificio Santo Domingo de Guzmán\, Tunja\, Boyacá\, Colombia
CATEGORIES:Académico
ATTACH;FMTTYPE=image/jpeg:https://eventos.santototunja.edu.co/wp-content/uploads/2022/07/web-corrientes-pedagogicas-contemporaneas.jpeg
END:VEVENT
END:VCALENDAR