BEGIN:VCALENDAR
VERSION:2.0
PRODID:-//Eventos Santoto Tunja - ECPv5.2.0//NONSGML v1.0//EN
CALSCALE:GREGORIAN
METHOD:PUBLISH
X-WR-CALNAME:Eventos Santoto Tunja
X-ORIGINAL-URL:https://eventos.santototunja.edu.co
X-WR-CALDESC:Events for Eventos Santoto Tunja
BEGIN:VTIMEZONE
TZID:America/Bogota
BEGIN:STANDARD
TZOFFSETFROM:-0500
TZOFFSETTO:-0500
TZNAME:-05
DTSTART:20220101T000000
END:STANDARD
END:VTIMEZONE
BEGIN:VEVENT
DTSTART;TZID=America/Bogota:20220422T080000
DTEND;TZID=America/Bogota:20220422T160000
DTSTAMP:20260420T010454
CREATED:20220419T193348Z
LAST-MODIFIED:20220419T193348Z
UID:4669-1650614400-1650643200@eventos.santototunja.edu.co
SUMMARY:Día del Idioma 2022
DESCRIPTION:
URL:https://eventos.santototunja.edu.co/evento/dia-del-idioma-2022/
LOCATION:Auditorio Mayor\, Edificio Santo Domingo de Guzmán\, Tunja\, Boyacá\, Colombia
CATEGORIES:Académico
ATTACH;FMTTYPE=image/jpeg:https://eventos.santototunja.edu.co/wp-content/uploads/2022/04/Dia_del_idioma_Santoto_Tunja_banner.jpeg
END:VEVENT
END:VCALENDAR