BEGIN:VCALENDAR
VERSION:2.0
PRODID:-//Eventos Santoto Tunja - ECPv5.2.0//NONSGML v1.0//EN
CALSCALE:GREGORIAN
METHOD:PUBLISH
X-WR-CALNAME:Eventos Santoto Tunja
X-ORIGINAL-URL:https://eventos.santototunja.edu.co
X-WR-CALDESC:Events for Eventos Santoto Tunja
BEGIN:VTIMEZONE
TZID:America/Bogota
BEGIN:STANDARD
TZOFFSETFROM:-0500
TZOFFSETTO:-0500
TZNAME:-05
DTSTART:20240101T000000
END:STANDARD
END:VTIMEZONE
BEGIN:VEVENT
DTSTART;TZID=America/Bogota:20240528T080000
DTEND;TZID=America/Bogota:20240531T170000
DTSTAMP:20260420T035647
CREATED:20240503T142127Z
LAST-MODIFIED:20240503T142127Z
UID:7599-1716883200-1717174800@eventos.santototunja.edu.co
SUMMARY:Día Mundial sin Tabaco
DESCRIPTION:
URL:https://eventos.santototunja.edu.co/evento/dia-mundial-sin-tabaco/
LOCATION:Ambos Campus\, Tunja\, Boyacá\, Colombia
CATEGORIES:Bienestar Institucional
ATTACH;FMTTYPE=image/jpeg:https://eventos.santototunja.edu.co/wp-content/uploads/2024/05/web-dia-mundial-sin-tabaco-PRUPUESTA-2.jpg
END:VEVENT
END:VCALENDAR