BEGIN:VCALENDAR
VERSION:2.0
PRODID:-//Eventos Santoto Tunja - ECPv5.2.0//NONSGML v1.0//EN
CALSCALE:GREGORIAN
METHOD:PUBLISH
X-WR-CALNAME:Eventos Santoto Tunja
X-ORIGINAL-URL:https://eventos.santototunja.edu.co
X-WR-CALDESC:Events for Eventos Santoto Tunja
BEGIN:VTIMEZONE
TZID:America/Bogota
BEGIN:STANDARD
TZOFFSETFROM:-0500
TZOFFSETTO:-0500
TZNAME:-05
DTSTART:20220101T000000
END:STANDARD
END:VTIMEZONE
BEGIN:VEVENT
DTSTART;TZID=America/Bogota:20220706T090000
DTEND;TZID=America/Bogota:20220729T160000
DTSTAMP:20260419T094008
CREATED:20220707T163038Z
LAST-MODIFIED:20220707T163038Z
UID:5002-1657098000-1659110400@eventos.santototunja.edu.co
SUMMARY:Feria Bancaria
DESCRIPTION:
URL:https://eventos.santototunja.edu.co/evento/feria-bancaria/
LOCATION:Patio del Antiguo Convento del Campus Centro Historico
CATEGORIES:Campañas
ATTACH;FMTTYPE=image/jpeg:https://eventos.santototunja.edu.co/wp-content/uploads/2022/07/Feria_Bancaria_Santoto_Tunja_web.jpeg
END:VEVENT
END:VCALENDAR