BEGIN:VCALENDAR
VERSION:2.0
PRODID:-//Eventos Santoto Tunja - ECPv5.2.0//NONSGML v1.0//EN
CALSCALE:GREGORIAN
METHOD:PUBLISH
X-WR-CALNAME:Eventos Santoto Tunja
X-ORIGINAL-URL:https://eventos.santototunja.edu.co
X-WR-CALDESC:Events for Eventos Santoto Tunja
BEGIN:VTIMEZONE
TZID:America/Bogota
BEGIN:STANDARD
TZOFFSETFROM:-0500
TZOFFSETTO:-0500
TZNAME:-05
DTSTART:20230101T000000
END:STANDARD
END:VTIMEZONE
BEGIN:VEVENT
DTSTART;TZID=America/Bogota:20230519T160000
DTEND;TZID=America/Bogota:20230519T180000
DTSTAMP:20260419T074200
CREATED:20230517T170237Z
LAST-MODIFIED:20230517T170237Z
UID:6096-1684512000-1684519200@eventos.santototunja.edu.co
SUMMARY:Gestión del Riesgo en Los Sistemas de Gestión
DESCRIPTION:
URL:https://eventos.santototunja.edu.co/evento/gestion-del-riesgo-en-los-sistemas-de-gestion-2/
LOCATION:Virtual
CATEGORIES:División de Arquitectura e Ingenierías
ATTACH;FMTTYPE=image/jpeg:https://eventos.santototunja.edu.co/wp-content/uploads/2023/05/tunja-boyaca-Gestión-del-riesgo-en-los-sistemas-de-gestión-web.jpg
END:VEVENT
END:VCALENDAR