BEGIN:VCALENDAR
VERSION:2.0
PRODID:-//Eventos Santoto Tunja - ECPv5.2.0//NONSGML v1.0//EN
CALSCALE:GREGORIAN
METHOD:PUBLISH
X-WR-CALNAME:Eventos Santoto Tunja
X-ORIGINAL-URL:https://eventos.santototunja.edu.co
X-WR-CALDESC:Events for Eventos Santoto Tunja
BEGIN:VTIMEZONE
TZID:America/Bogota
BEGIN:STANDARD
TZOFFSETFROM:-0500
TZOFFSETTO:-0500
TZNAME:-05
DTSTART:20220101T000000
END:STANDARD
END:VTIMEZONE
BEGIN:VEVENT
DTSTART;TZID=America/Bogota:20220819T160000
DTEND;TZID=America/Bogota:20220819T180000
DTSTAMP:20260420T085050
CREATED:20220817T152426Z
LAST-MODIFIED:20220817T161326Z
UID:5184-1660924800-1660932000@eventos.santototunja.edu.co
SUMMARY:Gestión del Riesgo en los Sistemas de Gestión
DESCRIPTION:Sala ZOOM
URL:https://eventos.santototunja.edu.co/evento/gestion-del-riesgo-en-los-sistemas-de-gestion/
LOCATION:Santoto Tunja Sala Zoom\, Colombia
CATEGORIES:Facultad de Ingeniería Mecánica
ATTACH;FMTTYPE=image/jpeg:https://eventos.santototunja.edu.co/wp-content/uploads/2022/08/Sistemas_de_Gestion_Santoto_Tunja.jpg
END:VEVENT
END:VCALENDAR