BEGIN:VCALENDAR
VERSION:2.0
PRODID:-//Eventos Santoto Tunja - ECPv5.2.0//NONSGML v1.0//EN
CALSCALE:GREGORIAN
METHOD:PUBLISH
X-WR-CALNAME:Eventos Santoto Tunja
X-ORIGINAL-URL:https://eventos.santototunja.edu.co
X-WR-CALDESC:Events for Eventos Santoto Tunja
BEGIN:VTIMEZONE
TZID:America/Bogota
BEGIN:STANDARD
TZOFFSETFROM:-0500
TZOFFSETTO:-0500
TZNAME:-05
DTSTART:20220101T000000
END:STANDARD
END:VTIMEZONE
BEGIN:VEVENT
DTSTART;TZID=America/Bogota:20220711T110000
DTEND;TZID=America/Bogota:20220714T170000
DTSTAMP:20260419T184416
CREATED:20220630T155406Z
LAST-MODIFIED:20220630T155553Z
UID:4962-1657537200-1657818000@eventos.santototunja.edu.co
SUMMARY:Gestión Empresarial para IPS
DESCRIPTION:Entrar a sala ZOOM
URL:https://eventos.santototunja.edu.co/evento/gestion-empresarial-para-ips/
LOCATION:Santoto Tunja Sala Zoom\, Colombia
CATEGORIES:Facultad de Administración de Empresas,Facultad de Ingeniería y Ciencias Básicas JDC
ATTACH;FMTTYPE=image/jpeg:https://eventos.santototunja.edu.co/wp-content/uploads/2022/06/Gestion_Empresarial_IP_Santoto_Tunja_web.jpeg
END:VEVENT
END:VCALENDAR