BEGIN:VCALENDAR
VERSION:2.0
PRODID:-//Eventos Santoto Tunja - ECPv5.2.0//NONSGML v1.0//EN
CALSCALE:GREGORIAN
METHOD:PUBLISH
X-WR-CALNAME:Eventos Santoto Tunja
X-ORIGINAL-URL:https://eventos.santototunja.edu.co
X-WR-CALDESC:Events for Eventos Santoto Tunja
BEGIN:VTIMEZONE
TZID:America/Bogota
BEGIN:STANDARD
TZOFFSETFROM:-0500
TZOFFSETTO:-0500
TZNAME:-05
DTSTART:20220101T000000
END:STANDARD
END:VTIMEZONE
BEGIN:VEVENT
DTSTART;TZID=America/Bogota:20221201T080000
DTEND;TZID=America/Bogota:20221231T180000
DTSTAMP:20260419T164539
CREATED:20220208T215150Z
LAST-MODIFIED:20220215T141014Z
UID:4412-1669881600-1672509600@eventos.santototunja.edu.co
SUMMARY:I Convocatoria Permanente Proyectos de Grado 2022
DESCRIPTION:Descargar Documento
URL:https://eventos.santototunja.edu.co/evento/i-convocatoria-permanente-proyectos-de-grado-2022/
LOCATION:Direccion de Investigacion e Innovacion\, Tunja\, Boyacá\, Colombia
CATEGORIES:Académico
ATTACH;FMTTYPE=image/jpeg:https://eventos.santototunja.edu.co/wp-content/uploads/2022/02/Eventos-Convocatoria-Proyectos-de-Grado-2022.jpeg
END:VEVENT
END:VCALENDAR