BEGIN:VCALENDAR
VERSION:2.0
PRODID:-//Eventos Santoto Tunja - ECPv5.2.0//NONSGML v1.0//EN
CALSCALE:GREGORIAN
METHOD:PUBLISH
X-WR-CALNAME:Eventos Santoto Tunja
X-ORIGINAL-URL:https://eventos.santototunja.edu.co
X-WR-CALDESC:Events for Eventos Santoto Tunja
BEGIN:VTIMEZONE
TZID:America/Bogota
BEGIN:STANDARD
TZOFFSETFROM:-0500
TZOFFSETTO:-0500
TZNAME:-05
DTSTART:20220101T000000
END:STANDARD
END:VTIMEZONE
BEGIN:VEVENT
DTSTART;TZID=America/Bogota:20220330T170000
DTEND;TZID=America/Bogota:20220330T180000
DTSTAMP:20260420T010428
CREATED:20220329T201730Z
LAST-MODIFIED:20220329T201730Z
UID:4628-1648659600-1648663200@eventos.santototunja.edu.co
SUMMARY:II Cátedra Libre
DESCRIPTION:
URL:https://eventos.santototunja.edu.co/evento/ii-catedra-libre/
LOCATION:Youtube Santoto Tunja\, Colombia
CATEGORIES:Facultad de Ingeniería Ambiental
ATTACH;FMTTYPE=image/jpeg:https://eventos.santototunja.edu.co/wp-content/uploads/2022/03/II_Catedra_Libre_web.jpg
END:VEVENT
END:VCALENDAR