BEGIN:VCALENDAR
VERSION:2.0
PRODID:-//Eventos Santoto Tunja - ECPv5.2.0//NONSGML v1.0//EN
CALSCALE:GREGORIAN
METHOD:PUBLISH
X-WR-CALNAME:Eventos Santoto Tunja
X-ORIGINAL-URL:https://eventos.santototunja.edu.co
X-WR-CALDESC:Events for Eventos Santoto Tunja
BEGIN:VTIMEZONE
TZID:America/Bogota
BEGIN:STANDARD
TZOFFSETFROM:-0500
TZOFFSETTO:-0500
TZNAME:-05
DTSTART:20220101T000000
END:STANDARD
END:VTIMEZONE
BEGIN:VEVENT
DTSTART;TZID=America/Bogota:20220324T160000
DTEND;TZID=America/Bogota:20220324T180000
DTSTAMP:20260420T084529
CREATED:20220310T141809Z
LAST-MODIFIED:20220310T142034Z
UID:4561-1648137600-1648144800@eventos.santototunja.edu.co
SUMMARY:La Mujer Emprendedora como Generadora de Cambio
DESCRIPTION:Inscríbete
URL:https://eventos.santototunja.edu.co/evento/la-mujer-emprendedora-como-generadora-de-cambio/
LOCATION:Auditorio Mayor\, Edificio Santo Domingo de Guzmán\, Tunja\, Boyacá\, Colombia
CATEGORIES:Facultad de Administración de Empresas
ATTACH;FMTTYPE=image/jpeg:https://eventos.santototunja.edu.co/wp-content/uploads/2022/03/Conversatorio-administracion-mujer-Santoto-Tunja.jpeg
END:VEVENT
END:VCALENDAR