BEGIN:VCALENDAR
VERSION:2.0
PRODID:-//Eventos Santoto Tunja - ECPv5.2.0//NONSGML v1.0//EN
CALSCALE:GREGORIAN
METHOD:PUBLISH
X-WR-CALNAME:Eventos Santoto Tunja
X-ORIGINAL-URL:https://eventos.santototunja.edu.co
X-WR-CALDESC:Events for Eventos Santoto Tunja
BEGIN:VTIMEZONE
TZID:America/Bogota
BEGIN:STANDARD
TZOFFSETFROM:-0500
TZOFFSETTO:-0500
TZNAME:-05
DTSTART:20220101T000000
END:STANDARD
END:VTIMEZONE
BEGIN:VEVENT
DTSTART;TZID=America/Bogota:20221110T183000
DTEND;TZID=America/Bogota:20221110T200000
DTSTAMP:20260419T081136
CREATED:20221108T155648Z
LAST-MODIFIED:20221108T155648Z
UID:5583-1668105000-1668110400@eventos.santototunja.edu.co
SUMMARY:Lanzamiento Convenio Multicampus de Doble Titulación
DESCRIPTION:
URL:https://eventos.santototunja.edu.co/evento/lanzamiento-convenio-multicampus-de-doble-titulacion/
LOCATION:Auditorio Mayor Ed. Santo Domingo de Guzmán\, Campus Av Universitaria
CATEGORIES:Académico,Facultad de Contaduría Pública
ATTACH;FMTTYPE=image/jpeg:https://eventos.santototunja.edu.co/wp-content/uploads/2022/11/CONVENIO-CONTADURÍA-WEB.jpeg
END:VEVENT
END:VCALENDAR