BEGIN:VCALENDAR
VERSION:2.0
PRODID:-//Eventos Santoto Tunja - ECPv5.2.0//NONSGML v1.0//EN
CALSCALE:GREGORIAN
METHOD:PUBLISH
X-WR-CALNAME:Eventos Santoto Tunja
X-ORIGINAL-URL:https://eventos.santototunja.edu.co
X-WR-CALDESC:Events for Eventos Santoto Tunja
BEGIN:VTIMEZONE
TZID:America/Bogota
BEGIN:STANDARD
TZOFFSETFROM:-0500
TZOFFSETTO:-0500
TZNAME:-05
DTSTART:20240101T000000
END:STANDARD
END:VTIMEZONE
BEGIN:VEVENT
DTSTART;TZID=America/Bogota:20240424T080000
DTEND;TZID=America/Bogota:20240424T120000
DTSTAMP:20260420T101453
CREATED:20240315T205909Z
LAST-MODIFIED:20240408T202054Z
UID:7298-1713945600-1713960000@eventos.santototunja.edu.co
SUMMARY:ll Encuentro Neotomasinos División de Arquitectura e Ingenierías
DESCRIPTION:
URL:https://eventos.santototunja.edu.co/evento/ll-encuentro-neotomasinos-division-de-arquitectura-e-ingenierias/
LOCATION:Auditorio Mayor Ed. Santo Domingo de Guzmán\, Campus Av Universitaria
CATEGORIES:División de Arquitectura e Ingenierías
ATTACH;FMTTYPE=image/jpeg:https://eventos.santototunja.edu.co/wp-content/uploads/2024/03/encuentro-neotomasinos-arq-e-ing-web.jpg
END:VEVENT
END:VCALENDAR