BEGIN:VCALENDAR
VERSION:2.0
PRODID:-//Eventos Santoto Tunja - ECPv5.2.0//NONSGML v1.0//EN
CALSCALE:GREGORIAN
METHOD:PUBLISH
X-WR-CALNAME:Eventos Santoto Tunja
X-ORIGINAL-URL:https://eventos.santototunja.edu.co
X-WR-CALDESC:Events for Eventos Santoto Tunja
BEGIN:VTIMEZONE
TZID:America/Bogota
BEGIN:STANDARD
TZOFFSETFROM:-0500
TZOFFSETTO:-0500
TZNAME:-05
DTSTART:20220101T000000
END:STANDARD
END:VTIMEZONE
BEGIN:VEVENT
DTSTART;TZID=America/Bogota:20221130T080000
DTEND;TZID=America/Bogota:20221130T180000
DTSTAMP:20260419T164003
CREATED:20221025T133412Z
LAST-MODIFIED:20221025T133412Z
UID:5534-1669795200-1669831200@eventos.santototunja.edu.co
SUMMARY:Nos Transformamos para Mejorar
DESCRIPTION:
URL:https://eventos.santototunja.edu.co/evento/nos-transformamos-para-mejorar/
LOCATION:Universidad Santo Tomas\, Tunja\, Boyacá\, 150001\, Colombia
CATEGORIES:Académico
ATTACH;FMTTYPE=image/jpeg:https://eventos.santototunja.edu.co/wp-content/uploads/2022/10/CILCE_Santoto_Tunja_Banner.jpeg
ORGANIZER;CN="Instituto%20de%20Lenguas%20Fray%20Bernardo%20de%20Lugo%2C%20O.P.":MAILTO:coordinacion.idiomas@santototunja.edu.co
END:VEVENT
END:VCALENDAR