BEGIN:VCALENDAR
VERSION:2.0
PRODID:-//Eventos Santoto Tunja - ECPv5.2.0//NONSGML v1.0//EN
CALSCALE:GREGORIAN
METHOD:PUBLISH
X-WR-CALNAME:Eventos Santoto Tunja
X-ORIGINAL-URL:https://eventos.santototunja.edu.co
X-WR-CALDESC:Events for Eventos Santoto Tunja
BEGIN:VTIMEZONE
TZID:America/Bogota
BEGIN:STANDARD
TZOFFSETFROM:-0500
TZOFFSETTO:-0500
TZNAME:-05
DTSTART:20220101T000000
END:STANDARD
END:VTIMEZONE
BEGIN:VEVENT
DTSTART;TZID=America/Bogota:20220820T090000
DTEND;TZID=America/Bogota:20220820T120000
DTSTAMP:20260420T044021
CREATED:20220816T134026Z
LAST-MODIFIED:20220816T134026Z
UID:5162-1660986000-1660996800@eventos.santototunja.edu.co
SUMMARY:Parents Santoto
DESCRIPTION:
URL:https://eventos.santototunja.edu.co/evento/parents-santoto/
LOCATION:Auditorio Mayor\, Edificio Santo Domingo de Guzmán\, Tunja\, Boyacá\, Colombia
CATEGORIES:Académico
ATTACH;FMTTYPE=image/jpeg:https://eventos.santototunja.edu.co/wp-content/uploads/2022/08/Parents_Santoto_2022_Web.jpeg
ORGANIZER;CN="UDIES":MAILTO:aux.udies@santototunja.edu.co
END:VEVENT
END:VCALENDAR