BEGIN:VCALENDAR
VERSION:2.0
PRODID:-//Eventos Santoto Tunja - ECPv5.2.0//NONSGML v1.0//EN
CALSCALE:GREGORIAN
METHOD:PUBLISH
X-WR-CALNAME:Eventos Santoto Tunja
X-ORIGINAL-URL:https://eventos.santototunja.edu.co
X-WR-CALDESC:Events for Eventos Santoto Tunja
BEGIN:VTIMEZONE
TZID:America/Bogota
BEGIN:STANDARD
TZOFFSETFROM:-0500
TZOFFSETTO:-0500
TZNAME:-05
DTSTART:20220101T000000
END:STANDARD
END:VTIMEZONE
BEGIN:VEVENT
DTSTART;TZID=America/Bogota:20220307T070000
DTEND;TZID=America/Bogota:20220307T190000
DTSTAMP:20260420T140607
CREATED:20220301T215529Z
LAST-MODIFIED:20220304T205956Z
UID:4486-1646636400-1646679600@eventos.santototunja.edu.co
SUMMARY:Saint Thomas Day
DESCRIPTION:Inscríbete al Carnaval        \n         \n \n \n \n 
URL:https://eventos.santototunja.edu.co/evento/saint-thomas-day/
LOCATION:Campus Avenida Universitaria\, Tunja\, Boyacá\, 15001\, Colombia
CATEGORIES:Académico,Espiritual
ATTACH;FMTTYPE=image/jpeg:https://eventos.santototunja.edu.co/wp-content/uploads/2022/03/Dia_de_Santo_Tomas_Santoto_Tunja.jpeg
END:VEVENT
END:VCALENDAR