BEGIN:VCALENDAR
VERSION:2.0
PRODID:-//Eventos Santoto Tunja - ECPv5.2.0//NONSGML v1.0//EN
CALSCALE:GREGORIAN
METHOD:PUBLISH
X-WR-CALNAME:Eventos Santoto Tunja
X-ORIGINAL-URL:https://eventos.santototunja.edu.co
X-WR-CALDESC:Events for Eventos Santoto Tunja
BEGIN:VTIMEZONE
TZID:America/Bogota
BEGIN:STANDARD
TZOFFSETFROM:-0500
TZOFFSETTO:-0500
TZNAME:-05
DTSTART:20220101T000000
END:STANDARD
END:VTIMEZONE
BEGIN:VEVENT
DTSTART;TZID=America/Bogota:20220422T080000
DTEND;TZID=America/Bogota:20220422T180000
DTSTAMP:20260419T232615
CREATED:20220330T134243Z
LAST-MODIFIED:20220330T134415Z
UID:4632-1650614400-1650650400@eventos.santototunja.edu.co
SUMMARY:Science Tubers 2022
DESCRIPTION:Términos y Condiciones
URL:https://eventos.santototunja.edu.co/evento/science-tubers-2022/
LOCATION:Universidad Santo Tomas\, Tunja\, Boyacá\, 150001\, Colombia
CATEGORIES:Académico,Dirección de Investigación e Innovación
ATTACH;FMTTYPE=image/jpeg:https://eventos.santototunja.edu.co/wp-content/uploads/2022/03/SCIENCE-TUBERS_banner.jpg
END:VEVENT
END:VCALENDAR