BEGIN:VCALENDAR
VERSION:2.0
PRODID:-//Eventos Santoto Tunja - ECPv5.2.0//NONSGML v1.0//EN
CALSCALE:GREGORIAN
METHOD:PUBLISH
X-WR-CALNAME:Eventos Santoto Tunja
X-ORIGINAL-URL:https://eventos.santototunja.edu.co
X-WR-CALDESC:Events for Eventos Santoto Tunja
BEGIN:VTIMEZONE
TZID:America/Bogota
BEGIN:STANDARD
TZOFFSETFROM:-0500
TZOFFSETTO:-0500
TZNAME:-05
DTSTART:20220101T000000
END:STANDARD
END:VTIMEZONE
BEGIN:VEVENT
DTSTART;TZID=America/Bogota:20220317T160000
DTEND;TZID=America/Bogota:20220317T180000
DTSTAMP:20260420T123818
CREATED:20220311T223130Z
LAST-MODIFIED:20220311T223130Z
UID:4573-1647532800-1647540000@eventos.santototunja.edu.co
SUMMARY:Seminario en Investigación Ciencias Básicas
DESCRIPTION:
URL:https://eventos.santototunja.edu.co/evento/seminario-en-investigacion-ciencias-basicas/
LOCATION:Paraninfo Bicentenario Ed. Fray Giordano Bruno\, O.P.\, Campus Av. Universitaria\, Tunja\, Boyacá\, 15001\, Colombia
CATEGORIES:Ciencias Básicas,Seminario
ATTACH;FMTTYPE=image/jpeg:https://eventos.santototunja.edu.co/wp-content/uploads/2022/03/Seminario_Investigacion_Ciencias_Basicas_Santoto_Tunja_evento.jpeg
END:VEVENT
END:VCALENDAR