BEGIN:VCALENDAR
VERSION:2.0
PRODID:-//Eventos Santoto Tunja - ECPv5.2.0//NONSGML v1.0//EN
CALSCALE:GREGORIAN
METHOD:PUBLISH
X-WR-CALNAME:Eventos Santoto Tunja
X-ORIGINAL-URL:https://eventos.santototunja.edu.co
X-WR-CALDESC:Events for Eventos Santoto Tunja
BEGIN:VTIMEZONE
TZID:America/Bogota
BEGIN:STANDARD
TZOFFSETFROM:-0500
TZOFFSETTO:-0500
TZNAME:-05
DTSTART:20220101T000000
END:STANDARD
END:VTIMEZONE
BEGIN:VEVENT
DTSTART;TZID=America/Bogota:20220325T110000
DTEND;TZID=America/Bogota:20220326T130000
DTSTAMP:20260420T070643
CREATED:20220317T163739Z
LAST-MODIFIED:20220317T164244Z
UID:4590-1648206000-1648299600@eventos.santototunja.edu.co
SUMMARY:Seminario Internacional Estado Gobierno y Administración Social
DESCRIPTION:Inscríbete en la sesión virtual
URL:https://eventos.santototunja.edu.co/evento/seminario-internacional-estado-gobierno-y-administracion-social/
LOCATION:Auditorio Mayor\, Edificio Santo Domingo de Guzmán\, Tunja\, Boyacá\, Colombia
CATEGORIES:Académico,Seminario
ATTACH;FMTTYPE=image/jpeg:https://eventos.santototunja.edu.co/wp-content/uploads/2022/03/Seminario_Internacional_Estado_Santoto_Tunja.jpeg
END:VEVENT
END:VCALENDAR