BEGIN:VCALENDAR
VERSION:2.0
PRODID:-//Eventos Santoto Tunja - ECPv5.2.0//NONSGML v1.0//EN
CALSCALE:GREGORIAN
METHOD:PUBLISH
X-WR-CALNAME:Eventos Santoto Tunja
X-ORIGINAL-URL:https://eventos.santototunja.edu.co
X-WR-CALDESC:Events for Eventos Santoto Tunja
BEGIN:VTIMEZONE
TZID:America/Bogota
BEGIN:STANDARD
TZOFFSETFROM:-0500
TZOFFSETTO:-0500
TZNAME:-05
DTSTART:20220101T000000
END:STANDARD
END:VTIMEZONE
BEGIN:VEVENT
DTSTART;TZID=America/Bogota:20220429T160000
DTEND;TZID=America/Bogota:20220429T180000
DTSTAMP:20260419T231733
CREATED:20220418T170416Z
LAST-MODIFIED:20220418T170416Z
UID:4658-1651248000-1651255200@eventos.santototunja.edu.co
SUMMARY:Taller Business Model Canvas
DESCRIPTION:
URL:https://eventos.santototunja.edu.co/evento/taller-business-model-canvas/
LOCATION:Business Room Edificio Santo Domingo de Guzman\, Campus Avenida Universitaria\, Tunja\, Boyacá\, Colombia
CATEGORIES:Dirección de Investigación e Innovación,Facultad de Administración de Empresas
ATTACH;FMTTYPE=image/jpeg:https://eventos.santototunja.edu.co/wp-content/uploads/2022/04/Taller_business_Model_Canvas_Santoto_Tunja_2.jpg
END:VEVENT
END:VCALENDAR