BEGIN:VCALENDAR
VERSION:2.0
PRODID:-//Eventos Santoto Tunja - ECPv5.2.0//NONSGML v1.0//EN
CALSCALE:GREGORIAN
METHOD:PUBLISH
X-WR-CALNAME:Eventos Santoto Tunja
X-ORIGINAL-URL:https://eventos.santototunja.edu.co
X-WR-CALDESC:Events for Eventos Santoto Tunja
BEGIN:VTIMEZONE
TZID:America/Bogota
BEGIN:STANDARD
TZOFFSETFROM:-0500
TZOFFSETTO:-0500
TZNAME:-05
DTSTART:20220101T000000
END:STANDARD
END:VTIMEZONE
BEGIN:VEVENT
DTSTART;TZID=America/Bogota:20220520T143000
DTEND;TZID=America/Bogota:20220520T170000
DTSTAMP:20260419T121104
CREATED:20220505T224639Z
LAST-MODIFIED:20220505T224639Z
UID:4731-1653057000-1653066000@eventos.santototunja.edu.co
SUMMARY:Taller Contabilidad Básica
DESCRIPTION:
URL:https://eventos.santototunja.edu.co/evento/taller-contabilidad-basica/
LOCATION:Biblioteca Rural Comunitaria los Soches
CATEGORIES:Facultad de Contaduría Pública
ATTACH;FMTTYPE=image/jpeg:https://eventos.santototunja.edu.co/wp-content/uploads/2022/05/Taller_Contabilidad_basica_Santoto_Tunja_evento.jpeg
END:VEVENT
END:VCALENDAR