BEGIN:VCALENDAR
VERSION:2.0
PRODID:-//Eventos Santoto Tunja - ECPv5.2.0//NONSGML v1.0//EN
CALSCALE:GREGORIAN
METHOD:PUBLISH
X-WR-CALNAME:Eventos Santoto Tunja
X-ORIGINAL-URL:https://eventos.santototunja.edu.co
X-WR-CALDESC:Events for Eventos Santoto Tunja
BEGIN:VTIMEZONE
TZID:America/Bogota
BEGIN:STANDARD
TZOFFSETFROM:-0500
TZOFFSETTO:-0500
TZNAME:-05
DTSTART:20220101T000000
END:STANDARD
END:VTIMEZONE
BEGIN:VEVENT
DTSTART;TZID=America/Bogota:20220816T080000
DTEND;TZID=America/Bogota:20220816T180000
DTSTAMP:20260420T141203
CREATED:20220809T193736Z
LAST-MODIFIED:20220809T194004Z
UID:5139-1660636800-1660672800@eventos.santototunja.edu.co
SUMMARY:Uso de Herramientas para el Análisis Bibliométrico SCOPUS
DESCRIPTION:Inscríbete        \n         \n    	\n        Sala ZOOM
URL:https://eventos.santototunja.edu.co/evento/uso-de-herramientas-para-el-analisis-bibliometrico-scopus/
LOCATION:Sala Zoom Santoto Tunja\, Colombia
CATEGORIES:Académico,Dirección de Investigación e Innovación
ATTACH;FMTTYPE=image/jpeg:https://eventos.santototunja.edu.co/wp-content/uploads/2022/08/Taller_Bibliometrico_Scopus_Santoto_Tunja_web.jpeg
END:VEVENT
END:VCALENDAR