BEGIN:VCALENDAR
VERSION:2.0
PRODID:-//Eventos Santoto Tunja - ECPv5.2.0//NONSGML v1.0//EN
CALSCALE:GREGORIAN
METHOD:PUBLISH
X-WR-CALNAME:Eventos Santoto Tunja
X-ORIGINAL-URL:https://eventos.santototunja.edu.co
X-WR-CALDESC:Events for Eventos Santoto Tunja
BEGIN:VTIMEZONE
TZID:America/Bogota
BEGIN:STANDARD
TZOFFSETFROM:-0500
TZOFFSETTO:-0500
TZNAME:-05
DTSTART:20220101T000000
END:STANDARD
END:VTIMEZONE
BEGIN:VEVENT
DTSTART;TZID=America/Bogota:20220217T080000
DTEND;TZID=America/Bogota:20220305T170000
DTSTAMP:20260422T114033
CREATED:20220126T203651Z
LAST-MODIFIED:20220215T140907Z
UID:4405-1645084800-1646499600@eventos.santototunja.edu.co
SUMMARY:Convocatoria Monitorías Académicas 2022-1
DESCRIPTION:Inscríbete Aquí        \n         \n﻿
URL:https://eventos.santototunja.edu.co/evento/convocatoria-monitorias-academicas-2022-1/
CATEGORIES:Académico
ATTACH;FMTTYPE=image/jpeg:https://eventos.santototunja.edu.co/wp-content/uploads/2022/01/Convocatoria_Monitores_Academicos_2022-1_WEB-scaled.jpeg
ORGANIZER;CN="UDIES":MAILTO:aux.udies@santototunja.edu.co
END:VEVENT
END:VCALENDAR