BEGIN:VCALENDAR
VERSION:2.0
PRODID:-//Eventos Santoto Tunja - ECPv5.2.0//NONSGML v1.0//EN
CALSCALE:GREGORIAN
METHOD:PUBLISH
X-WR-CALNAME:Eventos Santoto Tunja
X-ORIGINAL-URL:https://eventos.santototunja.edu.co
X-WR-CALDESC:Events for Eventos Santoto Tunja
BEGIN:VTIMEZONE
TZID:America/Bogota
BEGIN:STANDARD
TZOFFSETFROM:-0500
TZOFFSETTO:-0500
TZNAME:-05
DTSTART:20220101T000000
END:STANDARD
END:VTIMEZONE
BEGIN:VEVENT
DTSTART;TZID=America/Bogota:20220218T150000
DTEND;TZID=America/Bogota:20221028T170000
DTSTAMP:20260422T075255
CREATED:20220126T164757Z
LAST-MODIFIED:20220126T165057Z
UID:4395-1645196400-1666976400@eventos.santototunja.edu.co
SUMMARY:Calendario Exámenes de Suficiencia Inglés
DESCRIPTION:
URL:https://eventos.santototunja.edu.co/evento/calendario-examenes-de-suficiencia-ingles/
LOCATION:Instituto de Lenguas Fray Bernardo de Lugo\, O.P.
CATEGORIES:Académico
ATTACH;FMTTYPE=image/jpeg:https://eventos.santototunja.edu.co/wp-content/uploads/2022/01/EVENTOS.jpeg
ORGANIZER;CN="Instituto%20de%20Lenguas%20Fray%20Bernardo%20de%20Lugo%2C%20O.P.":MAILTO:coordinacion.idiomas@santototunja.edu.co
END:VEVENT
BEGIN:VEVENT
DTSTART;TZID=America/Bogota:20220420T090000
DTEND;TZID=America/Bogota:20220420T120000
DTSTAMP:20260422T075255
CREATED:20220418T152432Z
LAST-MODIFIED:20220418T152432Z
UID:4646-1650445200-1650456000@eventos.santototunja.edu.co
SUMMARY:Claustro Estudiantil Facultad Cultura Física\, Deporte y Recreación y Licenciatura en Español y Lenguas Extranjeras Inglés y Francés
DESCRIPTION:
URL:https://eventos.santototunja.edu.co/evento/claustro-estudiantil-facultad-cultura-fisica-deporte-y-recreacion-y-licenciatura-en-espanol-y-lenguas-extranjeras-ingles-y-frances/
LOCATION:Auditorio Mayor\, Edificio Santo Domingo de Guzmán\, Tunja\, Boyacá\, Colombia
CATEGORIES:Académico,Deporte y Recreación,Facultad de Licenciatura en Español y Lenguas Extranjeras Inglés y Francés
ATTACH;FMTTYPE=image/jpeg:https://eventos.santototunja.edu.co/wp-content/uploads/2022/04/Claustro_Estudiantil_Cultura_Fisica_Santoto_Tunja_Banner.jpeg
END:VEVENT
END:VCALENDAR