BEGIN:VCALENDAR
VERSION:2.0
PRODID:-//Eventos Santoto Tunja - ECPv5.2.0//NONSGML v1.0//EN
CALSCALE:GREGORIAN
METHOD:PUBLISH
X-WR-CALNAME:Eventos Santoto Tunja
X-ORIGINAL-URL:https://eventos.santototunja.edu.co
X-WR-CALDESC:Events for Eventos Santoto Tunja
BEGIN:VTIMEZONE
TZID:America/Bogota
BEGIN:STANDARD
TZOFFSETFROM:-0500
TZOFFSETTO:-0500
TZNAME:-05
DTSTART:20230101T000000
END:STANDARD
END:VTIMEZONE
BEGIN:VEVENT
DTSTART;TZID=America/Bogota:20230505T110000
DTEND;TZID=America/Bogota:20230505T130000
DTSTAMP:20260421T113831
CREATED:20230502T143442Z
LAST-MODIFIED:20230502T143442Z
UID:6023-1683284400-1683291600@eventos.santototunja.edu.co
SUMMARY:Inserción a la Vida Laboral
DESCRIPTION:
URL:https://eventos.santototunja.edu.co/evento/insercion-a-la-vida-laboral/
LOCATION:Paraninfo Bicentenario Ed. Fray Giordano Bruno\, O.P.\, Campus Av. Universitaria\, Tunja\, Boyacá\, 15001\, Colombia
CATEGORIES:Apoyo a Egresados
ATTACH;FMTTYPE=image/jpeg:https://eventos.santototunja.edu.co/wp-content/uploads/2023/05/Inserción-vida-laboral_Web.jpg
END:VEVENT
END:VCALENDAR