BEGIN:VCALENDAR
VERSION:2.0
PRODID:-//Eventos Santoto Tunja - ECPv5.2.0//NONSGML v1.0//EN
CALSCALE:GREGORIAN
METHOD:PUBLISH
X-WR-CALNAME:Eventos Santoto Tunja
X-ORIGINAL-URL:https://eventos.santototunja.edu.co
X-WR-CALDESC:Events for Eventos Santoto Tunja
BEGIN:VTIMEZONE
TZID:America/Bogota
BEGIN:STANDARD
TZOFFSETFROM:-0500
TZOFFSETTO:-0500
TZNAME:-05
DTSTART:20230101T000000
END:STANDARD
END:VTIMEZONE
BEGIN:VEVENT
DTSTART;TZID=America/Bogota:20230331T080000
DTEND;TZID=America/Bogota:20230331T180000
DTSTAMP:20260421T014808
CREATED:20230316T141622Z
LAST-MODIFIED:20230316T141938Z
UID:5818-1680249600-1680285600@eventos.santototunja.edu.co
SUMMARY:Quaestiones Disputatae
DESCRIPTION:Leer más
URL:https://eventos.santototunja.edu.co/evento/quaestiones-disputatae/
LOCATION:Universidad Santo Tomas Seccional Tunja
CATEGORIES:Dirección de Humanidades
ATTACH;FMTTYPE=image/jpeg:https://eventos.santototunja.edu.co/wp-content/uploads/2023/03/web-Quaestiones-Disputatae.jpg
END:VEVENT
END:VCALENDAR