BEGIN:VCALENDAR
VERSION:2.0
PRODID:-//Eventos Santoto Tunja - ECPv5.2.0//NONSGML v1.0//EN
CALSCALE:GREGORIAN
METHOD:PUBLISH
X-WR-CALNAME:Eventos Santoto Tunja
X-ORIGINAL-URL:https://eventos.santototunja.edu.co
X-WR-CALDESC:Events for Eventos Santoto Tunja
BEGIN:VTIMEZONE
TZID:America/Bogota
BEGIN:STANDARD
TZOFFSETFROM:-0500
TZOFFSETTO:-0500
TZNAME:-05
DTSTART:20230101T000000
END:STANDARD
END:VTIMEZONE
BEGIN:VEVENT
DTSTART;TZID=America/Bogota:20231130T080000
DTEND;TZID=America/Bogota:20231130T233000
DTSTAMP:20260420T120634
CREATED:20230822T225157Z
LAST-MODIFIED:20230822T225157Z
UID:6405-1701331200-1701387000@eventos.santototunja.edu.co
SUMMARY:Quaestiones Disputatae
DESCRIPTION:
URL:https://eventos.santototunja.edu.co/evento/quaestiones-disputatae-2/
LOCATION:Universidad Santo Tomas Seccional Tunja
CATEGORIES:Dirección de Humanidades
ATTACH;FMTTYPE=image/jpeg:https://eventos.santototunja.edu.co/wp-content/uploads/2023/08/web-Quaestiones-Disputatae.jpg
END:VEVENT
END:VCALENDAR