BEGIN:VCALENDAR
VERSION:2.0
PRODID:-//Eventos Santoto Tunja - ECPv5.2.0//NONSGML v1.0//EN
CALSCALE:GREGORIAN
METHOD:PUBLISH
X-WR-CALNAME:Eventos Santoto Tunja
X-ORIGINAL-URL:https://eventos.santototunja.edu.co
X-WR-CALDESC:Events for Eventos Santoto Tunja
BEGIN:VTIMEZONE
TZID:America/Bogota
BEGIN:STANDARD
TZOFFSETFROM:-0500
TZOFFSETTO:-0500
TZNAME:-05
DTSTART:20260101T000000
END:STANDARD
END:VTIMEZONE
BEGIN:VEVENT
DTSTART;TZID=America/Bogota:20260309T080000
DTEND;TZID=America/Bogota:20260309T100000
DTSTAMP:20260419T151459
CREATED:20260305T152921Z
LAST-MODIFIED:20260305T152921Z
UID:9802-1773043200-1773050400@eventos.santototunja.edu.co
SUMMARY:Conferencia "Verdad y veracidad según Santo Tomás de Aquino" en la era de la desinformación
DESCRIPTION:
URL:https://eventos.santototunja.edu.co/evento/conferencia-verdad-y-veracidad-segun-santo-tomas-de-aquino-en-la-era-de-la-desinformacion/
LOCATION:Campus Centro Historico\, Tunja\, Boyacá\, 15001\, Colombia
CATEGORIES:Dirección de Humanidades
ATTACH;FMTTYPE=image/jpeg:https://eventos.santototunja.edu.co/wp-content/uploads/2026/03/conferencia-web.jpg
END:VEVENT
END:VCALENDAR