BEGIN:VCALENDAR
VERSION:2.0
PRODID:-//Eventos Santoto Tunja - ECPv5.2.0//NONSGML v1.0//EN
CALSCALE:GREGORIAN
METHOD:PUBLISH
X-WR-CALNAME:Eventos Santoto Tunja
X-ORIGINAL-URL:https://eventos.santototunja.edu.co
X-WR-CALDESC:Events for Eventos Santoto Tunja
BEGIN:VTIMEZONE
TZID:America/Bogota
BEGIN:STANDARD
TZOFFSETFROM:-0500
TZOFFSETTO:-0500
TZNAME:-05
DTSTART:20220101T000000
END:STANDARD
END:VTIMEZONE
BEGIN:VEVENT
DTSTART;TZID=America/Bogota:20220324T090000
DTEND;TZID=America/Bogota:20220324T120000
DTSTAMP:20260420T160819
CREATED:20220307T152906Z
LAST-MODIFIED:20220307T152906Z
UID:4517-1648112400-1648123200@eventos.santototunja.edu.co
SUMMARY:1ra Vitrina Comercial Mujer Emprendedora Tomasina
DESCRIPTION:Inscríbete
URL:https://eventos.santototunja.edu.co/evento/1ra-vitrina-comercial-mujer-emprendedora-tomasina/
LOCATION:Campus Centro Historico\, Tunja\, Boyacá\, 15001\, Colombia
CATEGORIES:Dirección de Proyección Social
ATTACH;FMTTYPE=image/jpeg:https://eventos.santototunja.edu.co/wp-content/uploads/2022/03/Vitrina-comercial-mujer-web.jpeg
END:VEVENT
END:VCALENDAR