BEGIN:VCALENDAR
VERSION:2.0
PRODID:-//Eventos Santoto Tunja - ECPv5.2.0//NONSGML v1.0//EN
CALSCALE:GREGORIAN
METHOD:PUBLISH
X-WR-CALNAME:Eventos Santoto Tunja
X-ORIGINAL-URL:https://eventos.santototunja.edu.co
X-WR-CALDESC:Events for Eventos Santoto Tunja
BEGIN:VTIMEZONE
TZID:America/Bogota
BEGIN:STANDARD
TZOFFSETFROM:-0500
TZOFFSETTO:-0500
TZNAME:-05
DTSTART:20220101T000000
END:STANDARD
END:VTIMEZONE
BEGIN:VEVENT
DTSTART;TZID=America/Bogota:20220801T080000
DTEND;TZID=America/Bogota:20220820T180000
DTSTAMP:20260420T061756
CREATED:20220802T141025Z
LAST-MODIFIED:20220802T141025Z
UID:5113-1659340800-1661018400@eventos.santototunja.edu.co
SUMMARY:Donatón Pro Comedor Comunitario
DESCRIPTION:
URL:https://eventos.santototunja.edu.co/evento/donaton-pro-comedor-comunitario/
LOCATION:Santoto Tunja
CATEGORIES:Dirección de Proyección Social
ATTACH;FMTTYPE=image/jpeg:https://eventos.santototunja.edu.co/wp-content/uploads/2022/08/Donaton_pro_comedor_comunitario_web.jpeg
END:VEVENT
END:VCALENDAR