BEGIN:VCALENDAR
VERSION:2.0
PRODID:-//Eventos Santoto Tunja - ECPv5.2.0//NONSGML v1.0//EN
CALSCALE:GREGORIAN
METHOD:PUBLISH
X-WR-CALNAME:Eventos Santoto Tunja
X-ORIGINAL-URL:https://eventos.santototunja.edu.co
X-WR-CALDESC:Events for Eventos Santoto Tunja
BEGIN:VTIMEZONE
TZID:America/Bogota
BEGIN:STANDARD
TZOFFSETFROM:-0500
TZOFFSETTO:-0500
TZNAME:-05
DTSTART:20220101T000000
END:STANDARD
END:VTIMEZONE
BEGIN:VEVENT
DTSTART;TZID=America/Bogota:20221128T180000
DTEND;TZID=America/Bogota:20221128T193000
DTSTAMP:20260419T223338
CREATED:20221123T135010Z
LAST-MODIFIED:20221123T135010Z
UID:5615-1669658400-1669663800@eventos.santototunja.edu.co
SUMMARY:III Encuentro de Prácticas en Responsabilidad Social Universitaria
DESCRIPTION:
URL:https://eventos.santototunja.edu.co/evento/iii-encuentro-de-practicas-en-responsabilidad-social-universitaria/
LOCATION:Auditorio San Raimundo de Peñafort\, Campus Centro Histórico\, Tunja\, Boyacá\, 15001\, Colombia
CATEGORIES:Dirección de Proyección Social,Facultad de Administración de Empresas
ATTACH;FMTTYPE=image/jpeg:https://eventos.santototunja.edu.co/wp-content/uploads/2022/11/Practicas-Responsabilidad_Web.jpeg
END:VEVENT
END:VCALENDAR