BEGIN:VCALENDAR
VERSION:2.0
PRODID:-//Eventos Santoto Tunja - ECPv5.2.0//NONSGML v1.0//EN
CALSCALE:GREGORIAN
METHOD:PUBLISH
X-WR-CALNAME:Eventos Santoto Tunja
X-ORIGINAL-URL:https://eventos.santototunja.edu.co
X-WR-CALDESC:Events for Eventos Santoto Tunja
BEGIN:VTIMEZONE
TZID:America/Bogota
BEGIN:STANDARD
TZOFFSETFROM:-0500
TZOFFSETTO:-0500
TZNAME:-05
DTSTART:20230101T000000
END:STANDARD
END:VTIMEZONE
BEGIN:VEVENT
DTSTART;TZID=America/Bogota:20230517T080000
DTEND;TZID=America/Bogota:20230517T180000
DTSTAMP:20260419T121602
CREATED:20230512T224706Z
LAST-MODIFIED:20230512T224706Z
UID:6079-1684310400-1684346400@eventos.santototunja.edu.co
SUMMARY:Día Mundial del Reciclaje
DESCRIPTION:
URL:https://eventos.santototunja.edu.co/evento/dia-mundial-del-reciclaje/
LOCATION:Santoto Tunja
CATEGORIES:Dirección de Proyección Social
ATTACH;FMTTYPE=image/jpeg:https://eventos.santototunja.edu.co/wp-content/uploads/2023/05/Tunja-boyaca-web-dia-mundial-del-reciclaje.jpg
END:VEVENT
END:VCALENDAR