BEGIN:VCALENDAR
VERSION:2.0
PRODID:-//Eventos Santoto Tunja - ECPv5.2.0//NONSGML v1.0//EN
CALSCALE:GREGORIAN
METHOD:PUBLISH
X-WR-CALNAME:Eventos Santoto Tunja
X-ORIGINAL-URL:https://eventos.santototunja.edu.co
X-WR-CALDESC:Events for Eventos Santoto Tunja
BEGIN:VTIMEZONE
TZID:America/Bogota
BEGIN:STANDARD
TZOFFSETFROM:-0500
TZOFFSETTO:-0500
TZNAME:-05
DTSTART:20240101T000000
END:STANDARD
END:VTIMEZONE
BEGIN:VEVENT
DTSTART;TZID=America/Bogota:20240607T080000
DTEND;TZID=America/Bogota:20240607T233000
DTSTAMP:20260420T021855
CREATED:20240207T143148Z
LAST-MODIFIED:20240207T143148Z
UID:6949-1717747200-1717803000@eventos.santototunja.edu.co
SUMMARY:Convocatoria Intercambistas 2024 -2 (Entrante)
DESCRIPTION:
URL:https://eventos.santototunja.edu.co/evento/convocatoria-intercambistas-2024-2-entrante/
LOCATION:Universidad Santo Tomas Seccional Tunja
CATEGORIES:DRI - Dirección de Relaciones Internacionales
ATTACH;FMTTYPE=image/jpeg:https://eventos.santototunja.edu.co/wp-content/uploads/2024/02/CONVOCATORIA-DE-MOVILIDAD-ENTRANTE_WEB.jpg
END:VEVENT
END:VCALENDAR