BEGIN:VCALENDAR
VERSION:2.0
PRODID:-//Eventos Santoto Tunja - ECPv5.2.0//NONSGML v1.0//EN
CALSCALE:GREGORIAN
METHOD:PUBLISH
X-WR-CALNAME:Eventos Santoto Tunja
X-ORIGINAL-URL:https://eventos.santototunja.edu.co
X-WR-CALDESC:Events for Eventos Santoto Tunja
BEGIN:VTIMEZONE
TZID:America/Bogota
BEGIN:STANDARD
TZOFFSETFROM:-0500
TZOFFSETTO:-0500
TZNAME:-05
DTSTART:20230101T000000
END:STANDARD
END:VTIMEZONE
BEGIN:VEVENT
DTSTART;TZID=America/Bogota:20230309T140000
DTEND;TZID=America/Bogota:20230309T180000
DTSTAMP:20260421T133312
CREATED:20230228T222359Z
LAST-MODIFIED:20230228T222359Z
UID:5741-1678370400-1678384800@eventos.santototunja.edu.co
SUMMARY:Conversatorio Problemas Contemporáneos de la Investigación en el Derecho
DESCRIPTION:
URL:https://eventos.santototunja.edu.co/evento/conversatorio-problemas-contemporaneos-de-la-investigacion-en-el-derecho/
LOCATION:4to piso CRAI Campus Centro Historico
CATEGORIES:Facultad de Derecho
ATTACH;FMTTYPE=image/jpeg:https://eventos.santototunja.edu.co/wp-content/uploads/2023/02/WEB-PROBLEMAS-CONTEMPORANEOS-DE-LA-INVESTIGACIÓN-EN-EL-DERECHO-Recuperado.jpg
END:VEVENT
END:VCALENDAR