BEGIN:VCALENDAR
VERSION:2.0
PRODID:-//Eventos Santoto Tunja - ECPv5.2.0//NONSGML v1.0//EN
CALSCALE:GREGORIAN
METHOD:PUBLISH
X-WR-CALNAME:Eventos Santoto Tunja
X-ORIGINAL-URL:https://eventos.santototunja.edu.co
X-WR-CALDESC:Events for Eventos Santoto Tunja
BEGIN:VTIMEZONE
TZID:America/Bogota
BEGIN:STANDARD
TZOFFSETFROM:-0500
TZOFFSETTO:-0500
TZNAME:-05
DTSTART:20230101T000000
END:STANDARD
END:VTIMEZONE
BEGIN:VEVENT
DTSTART;TZID=America/Bogota:20230502T180000
DTEND;TZID=America/Bogota:20230502T200000
DTSTAMP:20260421T113032
CREATED:20230425T221247Z
LAST-MODIFIED:20230425T221247Z
UID:6001-1683050400-1683057600@eventos.santototunja.edu.co
SUMMARY:Conversatorio Problemas Contemporáneos de la Investigación en el Derecho
DESCRIPTION:
URL:https://eventos.santototunja.edu.co/evento/conversatorio-problemas-contemporaneos-de-la-investigacion-en-el-derecho-2/
LOCATION:Auditorio San Raimundo de Peñafort\, Campus Centro Histórico\, Tunja\, Boyacá\, 15001\, Colombia
CATEGORIES:Académico,Facultad de Derecho
ATTACH;FMTTYPE=image/jpeg:https://eventos.santototunja.edu.co/wp-content/uploads/2023/04/PLANTILLA-CONVERSATORIOS-DERECHO-MAYO-WEB.jpg
END:VEVENT
END:VCALENDAR