BEGIN:VCALENDAR
VERSION:2.0
PRODID:-//Eventos Santoto Tunja - ECPv5.2.0//NONSGML v1.0//EN
CALSCALE:GREGORIAN
METHOD:PUBLISH
X-WR-CALNAME:Eventos Santoto Tunja
X-ORIGINAL-URL:https://eventos.santototunja.edu.co
X-WR-CALDESC:Events for Eventos Santoto Tunja
BEGIN:VTIMEZONE
TZID:America/Bogota
BEGIN:STANDARD
TZOFFSETFROM:-0500
TZOFFSETTO:-0500
TZNAME:-05
DTSTART:20240101T000000
END:STANDARD
END:VTIMEZONE
BEGIN:VEVENT
DTSTART;TZID=America/Bogota:20240311T163000
DTEND;TZID=America/Bogota:20240311T183000
DTSTAMP:20260420T120325
CREATED:20240301T143652Z
LAST-MODIFIED:20240301T143652Z
UID:7129-1710174600-1710181800@eventos.santototunja.edu.co
SUMMARY:MasterClass La JEP en los Diálogos Regionales
DESCRIPTION:Conéctate Teams
URL:https://eventos.santototunja.edu.co/evento/masterclass-la-jep-en-los-dialogos-regionales/
LOCATION:Microsoft Teams
CATEGORIES:Facultad de Derecho
ATTACH;FMTTYPE=image/jpeg:https://eventos.santototunja.edu.co/wp-content/uploads/2024/03/web-masterclass-dialogos-regionales-santoto-tunja-boyaca.jpg
END:VEVENT
END:VCALENDAR