BEGIN:VCALENDAR
VERSION:2.0
PRODID:-//Eventos Santoto Tunja - ECPv5.2.0//NONSGML v1.0//EN
CALSCALE:GREGORIAN
METHOD:PUBLISH
X-WR-CALNAME:Eventos Santoto Tunja
X-ORIGINAL-URL:https://eventos.santototunja.edu.co
X-WR-CALDESC:Events for Eventos Santoto Tunja
BEGIN:VTIMEZONE
TZID:America/Bogota
BEGIN:STANDARD
TZOFFSETFROM:-0500
TZOFFSETTO:-0500
TZNAME:-05
DTSTART:20240101T000000
END:STANDARD
END:VTIMEZONE
BEGIN:VEVENT
DTSTART;TZID=America/Bogota:20240814T090000
DTEND;TZID=America/Bogota:20240814T110000
DTSTAMP:20260420T015528
CREATED:20240802T214708Z
LAST-MODIFIED:20240809T204643Z
UID:7946-1723626000-1723633200@eventos.santototunja.edu.co
SUMMARY:Masterclass Dinámicas internacionales relevantes
DESCRIPTION:Transmisión Youtube        \n         \n    	\n        Transmisión ZOOM
URL:https://eventos.santototunja.edu.co/evento/masterclass-dinamicas-internacionales-relevantes/
LOCATION:Auditorio San Raimundo de Peñafort\, Campus Centro Histórico\, Tunja\, Boyacá\, 15001\, Colombia
CATEGORIES:Facultad de Contaduría Pública,Facultad de Derecho
ATTACH;FMTTYPE=image/jpeg:https://eventos.santototunja.edu.co/wp-content/uploads/2024/08/web-masterclass-auditoria-general-de-la-republica.jpg
END:VEVENT
END:VCALENDAR