BEGIN:VCALENDAR
VERSION:2.0
PRODID:-//Eventos Santoto Tunja - ECPv5.2.0//NONSGML v1.0//EN
CALSCALE:GREGORIAN
METHOD:PUBLISH
X-WR-CALNAME:Eventos Santoto Tunja
X-ORIGINAL-URL:https://eventos.santototunja.edu.co
X-WR-CALDESC:Events for Eventos Santoto Tunja
BEGIN:VTIMEZONE
TZID:America/Bogota
BEGIN:STANDARD
TZOFFSETFROM:-0500
TZOFFSETTO:-0500
TZNAME:-05
DTSTART:20240101T000000
END:STANDARD
END:VTIMEZONE
BEGIN:VEVENT
DTSTART;TZID=America/Bogota:20241002T080000
DTEND;TZID=America/Bogota:20241003T180000
DTSTAMP:20260419T223015
CREATED:20240808T194119Z
LAST-MODIFIED:20240926T214322Z
UID:7966-1727856000-1727978400@eventos.santototunja.edu.co
SUMMARY:Congreso Internacional “Innovación\, Tecnologías y Desarrollo"
DESCRIPTION:Inscríbete         \n         \n\nINSCRIPCIÓN DE SEMILLEROS\n    	\n        Estudiantes Tomasinos        \n         \n    	\n        Estudiantes Externos        \n         \n\n    	\n        Transmisión Youtube        \n         \n\n\n  
URL:https://eventos.santototunja.edu.co/evento/congreso-internacional-innovacion-tecnologias-y-desarrollo/
LOCATION:Auditorio Mayor Ed. Santo Domingo de Guzmán\, Campus Av Universitaria
CATEGORIES:Facultad de Derecho
ATTACH;FMTTYPE=image/jpeg:https://eventos.santototunja.edu.co/wp-content/uploads/2024/08/WEB-INNOVACION-TECNOLOGIAS-Y-DESARROLLO-LA-TRANSDISCIPLINARIEDAD-DEL-DERECHO-ANTE-EL-DESAFIO-DE-LOS-PROBLEMAS-CONTEMPORANEOS.jpg
END:VEVENT
END:VCALENDAR