BEGIN:VCALENDAR
VERSION:2.0
PRODID:-//Eventos Santoto Tunja - ECPv5.2.0//NONSGML v1.0//EN
CALSCALE:GREGORIAN
METHOD:PUBLISH
X-WR-CALNAME:Eventos Santoto Tunja
X-ORIGINAL-URL:https://eventos.santototunja.edu.co
X-WR-CALDESC:Events for Eventos Santoto Tunja
BEGIN:VTIMEZONE
TZID:America/Bogota
BEGIN:STANDARD
TZOFFSETFROM:-0500
TZOFFSETTO:-0500
TZNAME:-05
DTSTART:20240101T000000
END:STANDARD
END:VTIMEZONE
BEGIN:VEVENT
DTSTART;TZID=America/Bogota:20241004T110000
DTEND;TZID=America/Bogota:20241004T130000
DTSTAMP:20260419T222842
CREATED:20240923T155421Z
LAST-MODIFIED:20240925T205026Z
UID:8377-1728039600-1728046800@eventos.santototunja.edu.co
SUMMARY:Manejo del Sistema de Apoyo para la igualdad\, el mérito y la oportunidad
DESCRIPTION:Transmisión Teams
URL:https://eventos.santototunja.edu.co/evento/manejo-del-sistema-de-apoyo-para-la-igualdad-el-merito-y-la-oportunidad/
LOCATION:Auditorio San Raimundo de Peñafort\, Campus Centro Histórico\, Tunja\, Boyacá\, 15001\, Colombia
CATEGORIES:Facultad de Derecho
ATTACH;FMTTYPE=image/jpeg:https://eventos.santototunja.edu.co/wp-content/uploads/2024/09/Web-Manejo-del-Sistema-de-Apoyo-para-la-Igualdad-el-Merito-y-la-Oportunidad.jpg
END:VEVENT
END:VCALENDAR