BEGIN:VCALENDAR
VERSION:2.0
PRODID:-//Eventos Santoto Tunja - ECPv5.2.0//NONSGML v1.0//EN
CALSCALE:GREGORIAN
METHOD:PUBLISH
X-WR-CALNAME:Eventos Santoto Tunja
X-ORIGINAL-URL:https://eventos.santototunja.edu.co
X-WR-CALDESC:Events for Eventos Santoto Tunja
BEGIN:VTIMEZONE
TZID:America/Bogota
BEGIN:STANDARD
TZOFFSETFROM:-0500
TZOFFSETTO:-0500
TZNAME:-05
DTSTART:20220101T000000
END:STANDARD
END:VTIMEZONE
BEGIN:VEVENT
DTSTART;TZID=America/Bogota:20220831T170000
DTEND;TZID=America/Bogota:20220831T180000
DTSTAMP:20260419T202033
CREATED:20220829T171359Z
LAST-MODIFIED:20220829T171620Z
UID:5266-1661965200-1661968800@eventos.santototunja.edu.co
SUMMARY:V Cátedra Libre
DESCRIPTION:Entrar a la transmisión
URL:https://eventos.santototunja.edu.co/evento/v-catedra-libre/
LOCATION:Youtube Santoto Tunja\, Colombia
CATEGORIES:Facultad de Ingeniería Ambiental
ATTACH;FMTTYPE=image/jpeg:https://eventos.santototunja.edu.co/wp-content/uploads/2022/08/V_Catedra_Libre_Ambiental_Santoto_Tunja_Web.jpeg
END:VEVENT
END:VCALENDAR